
BEGIN:VCALENDAR
VERSION:2.0
PRODID:-//PMCA - ECPv6.7.0//NONSGML v1.0//EN
CALSCALE:GREGORIAN
METHOD:PUBLISH
X-WR-CALNAME:PMCA
X-ORIGINAL-URL:https://pmca.com
X-WR-CALDESC:Events for PMCA
REFRESH-INTERVAL;VALUE=DURATION:PT1H
X-Robots-Tag:noindex
X-PUBLISHED-TTL:PT1H
BEGIN:VTIMEZONE
TZID:America/New_York
BEGIN:DAYLIGHT
TZOFFSETFROM:-0500
TZOFFSETTO:-0400
TZNAME:EDT
DTSTART:20220313T070000
END:DAYLIGHT
BEGIN:STANDARD
TZOFFSETFROM:-0400
TZOFFSETTO:-0500
TZNAME:EST
DTSTART:20221106T060000
END:STANDARD
END:VTIMEZONE
BEGIN:VEVENT
DTSTART;TZID=America/New_York:20220601T130000
DTEND;TZID=America/New_York:20220601T150000
DTSTAMP:20260421T153557
CREATED:20220512T152323Z
LAST-MODIFIED:20220512T152323Z
UID:35929-1654088400-1654095600@pmca.com
SUMMARY:Production Conference Program Committee Meeting
DESCRIPTION:
URL:https://pmca.com/upcoming-meetings-and-event/production-conference-program-committee-meeting-11/
LOCATION:Conference Call
CATEGORIES:Meetings
END:VEVENT
BEGIN:VEVENT
DTSTART;TZID=America/New_York:20220609T130000
DTEND;TZID=America/New_York:20220609T133000
DTSTAMP:20260421T153557
CREATED:20220525T142735Z
LAST-MODIFIED:20220525T142813Z
UID:36047-1654779600-1654781400@pmca.com
SUMMARY:Marketing Committee Meeting
DESCRIPTION:
URL:https://pmca.com/upcoming-meetings-and-event/marketing-committee-meeting-10/
LOCATION:Conference Call
CATEGORIES:Meetings
END:VEVENT
BEGIN:VEVENT
DTSTART;TZID=America/New_York:20220613T120000
DTEND;TZID=America/New_York:20220613T130000
DTSTAMP:20260421T153557
CREATED:20220512T152453Z
LAST-MODIFIED:20220512T152453Z
UID:35931-1655121600-1655125200@pmca.com
SUMMARY:Western Region Committee Meeting
DESCRIPTION:
URL:https://pmca.com/upcoming-meetings-and-event/western-region-committee-meeting/
LOCATION:Conference Call
CATEGORIES:Meetings
END:VEVENT
BEGIN:VEVENT
DTSTART;TZID=America/New_York:20220616T130000
DTEND;TZID=America/New_York:20220616T160000
DTSTAMP:20260421T153557
CREATED:20220525T143114Z
LAST-MODIFIED:20220525T143114Z
UID:36051-1655384400-1655395200@pmca.com
SUMMARY:PMCA Board of Directors Meeting
DESCRIPTION:
URL:https://pmca.com/upcoming-meetings-and-event/pmca-board-of-directors-meeting-9/
LOCATION:Lancaster Marriott at Penn Square\, 25 S Queen Street\, Lancaster\, PA\, 17603\, United States
CATEGORIES:Meetings
END:VEVENT
BEGIN:VEVENT
DTSTART;TZID=America/New_York:20220623T120000
DTEND;TZID=America/New_York:20220623T130000
DTSTAMP:20260421T153557
CREATED:20220525T142934Z
LAST-MODIFIED:20220525T142934Z
UID:36049-1655985600-1655989200@pmca.com
SUMMARY:Ag Immersion Course Sub-Committee Meeting
DESCRIPTION:
URL:https://pmca.com/upcoming-meetings-and-event/ag-immersion-course-sub-committee-meeting-3/
LOCATION:Conference Call
CATEGORIES:Meetings
END:VEVENT
BEGIN:VEVENT
DTSTART;TZID=America/New_York:20220623T140000
DTEND;TZID=America/New_York:20220623T150000
DTSTAMP:20260421T153557
CREATED:20220615T163401Z
LAST-MODIFIED:20220615T163401Z
UID:36192-1655992800-1655996400@pmca.com
SUMMARY:Research Symposium Sub-Committee Meeting
DESCRIPTION:
URL:https://pmca.com/upcoming-meetings-and-event/research-symposium-sub-committee-meeting-4/
LOCATION:Conference Call
CATEGORIES:Meetings
END:VEVENT
BEGIN:VEVENT
DTSTART;TZID=America/New_York:20220627T140000
DTEND;TZID=America/New_York:20220627T150000
DTSTAMP:20260421T153557
CREATED:20220615T164945Z
LAST-MODIFIED:20220615T164945Z
UID:36196-1656338400-1656342000@pmca.com
SUMMARY:Research Webinar Sub-Committee Meeting
DESCRIPTION:
URL:https://pmca.com/upcoming-meetings-and-event/research-webinar-sub-committee-meeting-6/
LOCATION:Conference Call
CATEGORIES:Meetings
END:VEVENT
END:VCALENDAR