
BEGIN:VCALENDAR
VERSION:2.0
PRODID:-//PMCA - ECPv6.7.0//NONSGML v1.0//EN
CALSCALE:GREGORIAN
METHOD:PUBLISH
X-ORIGINAL-URL:https://pmca.com
X-WR-CALDESC:Events for PMCA
REFRESH-INTERVAL;VALUE=DURATION:PT1H
X-Robots-Tag:noindex
X-PUBLISHED-TTL:PT1H
BEGIN:VTIMEZONE
TZID:America/New_York
BEGIN:DAYLIGHT
TZOFFSETFROM:-0500
TZOFFSETTO:-0400
TZNAME:EDT
DTSTART:20200308T070000
END:DAYLIGHT
BEGIN:STANDARD
TZOFFSETFROM:-0400
TZOFFSETTO:-0500
TZNAME:EST
DTSTART:20201101T060000
END:STANDARD
END:VTIMEZONE
BEGIN:VEVENT
DTSTART;TZID=America/New_York:20200903T120000
DTEND;TZID=America/New_York:20200903T130000
DTSTAMP:20260425T193049
CREATED:20200818T193525Z
LAST-MODIFIED:20200818T193525Z
UID:31483-1599134400-1599138000@pmca.com
SUMMARY:Education Committee Meeting
DESCRIPTION:
URL:https://pmca.com/upcoming-meetings-and-event/education-committee-meeting/
LOCATION:Conference Call
CATEGORIES:Meetings
END:VEVENT
BEGIN:VEVENT
DTSTART;TZID=America/New_York:20200903T150000
DTEND;TZID=America/New_York:20200903T160000
DTSTAMP:20260425T193049
CREATED:20200902T174015Z
LAST-MODIFIED:20200902T174015Z
UID:31590-1599145200-1599148800@pmca.com
SUMMARY:Membership Committee Meeting
DESCRIPTION:
URL:https://pmca.com/upcoming-meetings-and-event/membership-committee-meeting-4/
LOCATION:Conference Call
CATEGORIES:Meetings
END:VEVENT
END:VCALENDAR