
BEGIN:VCALENDAR
VERSION:2.0
PRODID:-//PMCA - ECPv6.7.0//NONSGML v1.0//EN
CALSCALE:GREGORIAN
METHOD:PUBLISH
X-WR-CALNAME:PMCA
X-ORIGINAL-URL:https://pmca.com
X-WR-CALDESC:Events for PMCA
REFRESH-INTERVAL;VALUE=DURATION:PT1H
X-Robots-Tag:noindex
X-PUBLISHED-TTL:PT1H
BEGIN:VTIMEZONE
TZID:America/New_York
BEGIN:DAYLIGHT
TZOFFSETFROM:-0500
TZOFFSETTO:-0400
TZNAME:EDT
DTSTART:20220313T070000
END:DAYLIGHT
BEGIN:STANDARD
TZOFFSETFROM:-0400
TZOFFSETTO:-0500
TZNAME:EST
DTSTART:20221106T060000
END:STANDARD
END:VTIMEZONE
BEGIN:VEVENT
DTSTART;TZID=America/New_York:20220523T130000
DTEND;TZID=America/New_York:20220523T140000
DTSTAMP:20260421T221435
CREATED:20220512T152218Z
LAST-MODIFIED:20220512T152218Z
UID:35927-1653310800-1653314400@pmca.com
SUMMARY:High-Tech Foods Sub-Committee Meeting
DESCRIPTION:
URL:https://pmca.com/upcoming-meetings-and-event/high-tech-foods-sub-committee-meeting-3/
LOCATION:Conference Call
CATEGORIES:Meetings
END:VEVENT
END:VCALENDAR